BEGIN:VCALENDAR
VERSION:2.0
PRODID:-//Hochschulfilmclub - ECPv4.3.3//NONSGML v1.0//EN
CALSCALE:GREGORIAN
METHOD:PUBLISH
X-WR-CALNAME:Hochschulfilmclub
X-ORIGINAL-URL:https://hochschulfilmclub.de
X-WR-CALDESC:Events for Hochschulfilmclub
BEGIN:VEVENT
DTSTART;TZID=Europe/Berlin:20220405T210000
DTEND;TZID=Europe/Berlin:20220405T230000
DTSTAMP:20260420T115945
CREATED:20220330T124800Z
LAST-MODIFIED:20220330T142037Z
UID:2397-1649192400-1649199600@hochschulfilmclub.de
SUMMARY:Venom: Let There Be Carnage (OV)
DESCRIPTION:\n\n\nEddie Brock has been living as the host of the alien symbiote Venom has quite a while now and the two have more or less come to terms with each other. But Venom prefers to beat up bad guys all day and satisfy his massive hunger while Eddie wants to get his journalist career back on track again. A fitting opportunity might be an interview with serial killer Cletus Kasady\, whose victims still haven`t been found yet and which only will talk to Eddie about his actions. Then\, when Cletus is to be executed\, he survives because he too has bonded with a parasite.\n\nSequel to Venom (2018) and newest part of Sony Pictures rising Universe of Marvel Characters. \n\nErmäßigt: 3€\nRegulär: 4€\n\n\n\n\n\n\n\nTitel:\nVenom: Let There Be Carnage\n\n\nProduktion:\nUS / 2021 / 98min\n\n\nRegisseur:\nAndy Serkis\n\n\nDrehbuch:\nKelly Marcel\n\n\nKamera:\nRobert Richardson\n\n\nSchauspieler*innen:\nTom Hardy / Woody Harrelson / Naomie Harris / Stephan Graham / Michelle Williams\n\n\n\nTrailer:\nYoutube\n\n\n
URL:https://hochschulfilmclub.de/veranstaltung/venom-let-there-be-carnage-ov/
LOCATION:Helmholtzplatz 2\, Ilmenau
ATTACH;FMTTYPE=image/jpeg:https://hochschulfilmclub.de/wp-content/uploads/2022/03/Venom.jpg
END:VEVENT
END:VCALENDAR