BEGIN:VCALENDAR
VERSION:2.0
PRODID:-//Hochschulfilmclub - ECPv4.3.3//NONSGML v1.0//EN
CALSCALE:GREGORIAN
METHOD:PUBLISH
X-WR-CALNAME:Hochschulfilmclub
X-ORIGINAL-URL:https://hochschulfilmclub.de
X-WR-CALDESC:Events for Hochschulfilmclub
BEGIN:VEVENT
DTSTART;TZID=Europe/Berlin:20191119T210000
DTEND;TZID=Europe/Berlin:20191119T230000
DTSTAMP:20260424T085549
CREATED:20190930T184752Z
LAST-MODIFIED:20190930T184947Z
UID:1849-1574197200-1574204400@hochschulfilmclub.de
SUMMARY:Tolkien
DESCRIPTION:\n\n\nElben\, Zwerge\, Hobbits\, Drachen und Zauberer. Die Welt rund um Frodo\, Bilbo und Gandalf ist den Meisten von uns sicher bekannt. Der Mann\, der hinter der „Herr der Ringe“-Trilogie\, „Der Hobbit“ oder auch weiteren Werken wie „Das Silmarillion“\, steht\, ist John Ronald Reuel Tolkien. Der Film „Tolkien“ erzählt die Geschichte des talentierten Fantasy-Autors.\n\nEnde des 19. Jahrhunderts in England. Der junge und sehr kreative J.R.R. Tolkien (Nicholas Hoult) besucht das Elite-College Exeter in Oxford und findet da seine Freunde Geoffrey (Anthony Boyle)\, Robert (Patrick Gibson)\, Christopher (Tom Glynn-Carney) und Sam (Craig Roberts). Gegenseitig fördern sie ihre unterschiedlichen Talente und so kommt Tolkien dazu mit seinem Interesse für Sprachen und seiner blühenden Fantasie zu schreiben. Gemeinsam erleben die Jungen ihre schönsten aber auch schwersten Zeiten\, wie Beispielsweise den Verlust von Tolkiens erster Liebe Edith Bratt (Lily Collins) oder den Ausbruch des ersten Weltkrieges. Durch all diese Ereignisse und Menschen in seinem Leben wird J.R.R. Tolkien zu den Geschichten inspiriert\, die wir alle kennen und lieben.\n\nNicht allein wegen der optischen Ähnlichkeit zwischen dem jungen Tolkien und Nicholas Hoult ist der Schauspieler die richtige Wahl für die Rolle. Hoult zeigt sich als schüchterner Schriftsteller mit viel Fantasie und liebe zum Detail und lässt den Zuschauer mitfühlen\, wie die Geschichten rund um Mittelerde entstanden sind.\n\nErmäßigt: 3€\nRegulär: 4€\n\n\n\n\n\n\n\nTitel:\nTolkien\n\n\nProduktion:\nUSA / 2019\n\n\nRegisseur:\nDome Karukoski\n\n\nDrehbuch:\nDavid Gleeson\, Stephen Beresford\n\n\nMusik:\nThomas Newman\n\n\nKamera:\nLasse Frank Johannessen\n\n\nSchauspieler*innen:\nNicholas Hoult\, Lily Collins\, Colm Meaney\n\n\nTechnik:\nFarbe / 112 Minuten\n\n\nTrailer:\nYoutube\n\n\n
URL:https://hochschulfilmclub.de/veranstaltung/tolkien/
LOCATION:Helmholtzplatz 2\, Ilmenau
ATTACH;FMTTYPE=image/png:https://hochschulfilmclub.de/wp-content/uploads/2019/09/Tolkien.png
END:VEVENT
END:VCALENDAR