BEGIN:VCALENDAR
VERSION:2.0
PRODID:-//Hochschulfilmclub - ECPv4.3.3//NONSGML v1.0//EN
CALSCALE:GREGORIAN
METHOD:PUBLISH
X-WR-CALNAME:Hochschulfilmclub
X-ORIGINAL-URL:https://hochschulfilmclub.de
X-WR-CALDESC:Events for Hochschulfilmclub
BEGIN:VEVENT
DTSTART;TZID=Europe/Berlin:20200121T203000
DTEND;TZID=Europe/Berlin:20200121T233000
DTSTAMP:20260421T191123
CREATED:20200107T085250Z
LAST-MODIFIED:20200109T175650Z
UID:1901-1579638600-1579649400@hochschulfilmclub.de
SUMMARY:The Hate U Give (OmU) - cancelled!
DESCRIPTION:Cancelled!\n\nUnfortunately\, we can´t present the planned movie "The Hate U Give". But we did our best to show you the also great movie If Beale Street could talk. 
URL:https://hochschulfilmclub.de/veranstaltung/the-hate-u-give-omu/
LOCATION:Helmholtzplatz 2\, Ilmenau
END:VEVENT
END:VCALENDAR