BEGIN:VCALENDAR
VERSION:2.0
PRODID:-//Hochschulfilmclub - ECPv4.3.3//NONSGML v1.0//EN
CALSCALE:GREGORIAN
METHOD:PUBLISH
X-WR-CALNAME:Hochschulfilmclub
X-ORIGINAL-URL:https://hochschulfilmclub.de
X-WR-CALDESC:Events for Hochschulfilmclub
BEGIN:VEVENT
DTSTART;TZID=Europe/Berlin:20260106T210000
DTEND;TZID=Europe/Berlin:20260106T231000
DTSTAMP:20260420T083911
CREATED:20251008T143039Z
LAST-MODIFIED:20251008T143039Z
UID:4108-1767733200-1767741000@hochschulfilmclub.de
SUMMARY:The Apprentice (OmU)
DESCRIPTION:\n\n\nVisit us on the sad 5-year anniversary of January 6 when we delve into the early story of the central figure behind it all: Donald Trump.\n“The Apprentice” is a biographical drama directed by Ali Abbasi that shows Trump’s (Sebastian Stan) rise to power as a real-estate prodigy and media figure\, complete with all the insane schemes and blackmail going on behind it all\, mainly from the early seventies to the late eighties. An especially important focus for the movie therein lies in the relationship between Trump and his mentor Roy Cohn (Jeremy Strong)\, a scrupulous lawyer and prosecutor first gaining infamy by being closely associated with Joseph McCarthy during the Red Scare. It is shown how Cohn decisively influenced Trumps mannerisms and public appearance\, teaching him his “three rules” one can still observe to this day: 1. Always attack\, 2. Never admit wrongdoing\, and 3. Always claim victory.\nNow if you care to learn more about HIM and what else compelled him to become what he is today in this cinematographic production that the President himself describes as a "defamatory\, politically disgusting hatchet job"\, come and watch it ;). (JK)\n\n \n\n\n\n\n\n\nTitel:\nThe Apprentice\n\n\nProduktion:\nUSA\, CA\, IE\, DK / 2024 / 122 min\n\n\nRegisseur:\nAli Abbasi\n\n\nDrehbuch:\nGabriel Sherman\n\n\nKamera:\nKasper Tuxen\n\n\nMusik:\nMartin Dirkov\n\n\nStarring:\nSebastian Stan\, Jeremy Strong\, Martin Donovan\, Maria Bakalova\n\n\nTrailer:\nYoutube\n\n\n
URL:https://hochschulfilmclub.de/veranstaltung/the-apprentice-omu/
LOCATION:Helmholtzplatz 2\, Ilmenau
END:VEVENT
END:VCALENDAR