BEGIN:VCALENDAR
VERSION:2.0
PRODID:-//Hochschulfilmclub - ECPv4.3.3//NONSGML v1.0//EN
CALSCALE:GREGORIAN
METHOD:PUBLISH
X-WR-CALNAME:Hochschulfilmclub
X-ORIGINAL-URL:https://hochschulfilmclub.de
X-WR-CALDESC:Events for Hochschulfilmclub
BEGIN:VEVENT
DTSTART;TZID=Europe/Berlin:20170110T210000
DTEND;TZID=Europe/Berlin:20170110T230000
DTSTAMP:20260424T142411
CREATED:20170107T212230Z
LAST-MODIFIED:20170107T220943Z
UID:471-1484082000-1484089200@hochschulfilmclub.de
SUMMARY:Star Trek: Beyond
DESCRIPTION:Die U.S.S. Enterprise befindet sich in der Mitte ihrer 5-Jahres-Mission. Dies macht sich auch in der Psyche der Crew bemerkbar. Kirk (Chris Pine) stellt fest\, dass er mittlerweile älter ist\, als es sein Vater je wurde und entwickelt sich zu einem Kirk\, der an sich zweifelt\, seine Entscheidungen hinterfragt und über einen Ausstieg als Captain nachdenkt. Auch Spock (Zachary Quinto) plant seinen Abschied aus der Flotte\, nachdem Botschafter Spock (Leonard Nimoy) verstorben ist. Bevor beide ihre Entscheidungen endgültig machen können\, gehen sie zunächst einem Notruf eines abgelegenen Planeten nach\, der die Enterprise in eine tödliche Falle lockt und die Crew voneinander trennt. Plötzlich befindet sich Kirk und Co. in einem gnadenlosen Wettlauf mit dem Schurken Krall\, der versucht alle Lebewesen der Raumstation Yorktown auszulöschen. Neben der Action während der Verfolgung kommt der Humor dank Simon Pegg wieder einmal nicht zu kurz und auch Pille (Karl Urban) und Spock harmonieren auf humoristische Art miteinander und lassen den Zuschauer nicht nur einmal schmunzeln.\n\nJustin Lin (Fast and Furious-Reihe) hat die Herausforderung des „Star Trek“-Erbes von J.J. Abrams angenommen und mit „Star Trek Beyond“ einige Akzente gesetzt – zum gewohnt groß kalibrigen und staunenswerten Action-Bombast gesellen sich ein Hauch Nostalgie und etwas mehr launiger Humor.\n \n\n\n\nTitel:\nStar Trek: Beyond\n\n\nProduktion:\nUSA / 2016\n\n\nRegisseur:\nJustin Lin\n\n\nDrehbuch:\nSimon Pegg\, Doug Jung\n\n\nKamera:\nStephn F. Windon \n\n\nMusik:\nMichael Giacchino\n\n\nSchauspieler:\n\nChris Pine\, Zachary Quinto\, Simon Pegg\, Zoe Saldana\, Sofia Boutella\n\n\nTechnik:\nFarbe / 123 Minuten\n\n\nTrailer:\nYoutube\n\n\n
URL:https://hochschulfilmclub.de/veranstaltung/star-trek-beyond/
LOCATION:Helmholtzplatz 2\, Ilmenau
ATTACH;FMTTYPE=image/png:https://hochschulfilmclub.de/wp-content/uploads/2017/01/170110_startrek.png
END:VEVENT
END:VCALENDAR