BEGIN:VCALENDAR
VERSION:2.0
PRODID:-//Hochschulfilmclub - ECPv4.3.3//NONSGML v1.0//EN
CALSCALE:GREGORIAN
METHOD:PUBLISH
X-WR-CALNAME:Hochschulfilmclub
X-ORIGINAL-URL:https://hochschulfilmclub.de
X-WR-CALDESC:Events for Hochschulfilmclub
BEGIN:VEVENT
DTSTART;TZID=Europe/Berlin:20160707T210000
DTEND;TZID=Europe/Berlin:20160707T230000
DTSTAMP:20260426T013627
CREATED:20160602T174141Z
LAST-MODIFIED:20160602T175107Z
UID:165-1467925200-1467932400@hochschulfilmclub.de
SUMMARY:Riverbanks (engl. subtitles)
DESCRIPTION:Riverbanks spielt an den Ufern des Evros. An diesem Grenzfluss zwischen der Türkei und Griechenland sterben immer wieder Flüchtlinge auf ihrem Weg nach Europa - sei es durch Erfrieren\, Ertrinken oder durch eine der übriggebliebenen Minen aus dem Zypernkonflikt. Hier bringt die Schleuserin Chryssa Nacht für Nacht Kinder\, die Drogen im Rucksack haben\, über die Grenze. Sie ist auf das Geld aus dieser Tätigkeit angewiesen\, um das Leben ihres eigenen Kindes abzusichern. Eines Nachts trifft Chryssa auf den griechischen Soldaten Yannis\, der freiwillig Minen räumt und mit seinem Leben hadert - eine schicksalhafte Begegnung für beide ...\n\n"Riverbanks" erzählt einerseits eine gewöhnliche Geschichte\, wie sie sich so oder so ähnlich täglich an den europäischen Außengrenzen ereignet\, auch wenn die "Balkanroute" mittlerweile geschlossen ist. Aber zugleich wirft der Film auch einen ungewöhnlichen Blick auf die komplexe Situation - ohne Schuldzuweisungen und einfache Lösungen.\n\nDer Film wird in Kooperation mit dem ISWI e.V. und dem Ilmenauer Flüchtlingsnetzwerk gezeigt. Der Eintritt ist frei.\n\n\n\nTitel:\nRiverbanks (Orig.: Όχθες/Ohthes)\n\n\nProduktion:\nGriechenland\, Deutschland\, Türkei\, Frankreich/2015\n\n\nRegisseur:\nPanos Karkanevatos\n\n\nDrehbuch:\nPanos Karkanevatos\, Isidoros Zourgos\n\n\nKamera:\nDimitris Katsaitis\n\n\nMusik:\nNils Kacirek\n\n\nSchauspieler:\nAndreas Konstantinou\, Elena Mavridou\, Levent Üzümcü\n\n\nTechnik:\nFarbe/96 Minuten\n\n\nSprache:\nDeutsch mit englischen Untertiteln\n\n\nTrailer:\nYoutube\n\n\n
URL:https://hochschulfilmclub.de/veranstaltung/riverbanks-engl-subtitles/
LOCATION:Helmholtzplatz 2\, Ilmenau
ATTACH;FMTTYPE=image/png:https://hochschulfilmclub.de/wp-content/uploads/2016/06/160707_riverbanks.png
END:VEVENT
END:VCALENDAR