BEGIN:VCALENDAR
VERSION:2.0
PRODID:-//Hochschulfilmclub - ECPv4.3.3//NONSGML v1.0//EN
CALSCALE:GREGORIAN
METHOD:PUBLISH
X-WR-CALNAME:Hochschulfilmclub
X-ORIGINAL-URL:https://hochschulfilmclub.de
X-WR-CALDESC:Events for Hochschulfilmclub
BEGIN:VEVENT
DTSTART;TZID=Europe/Berlin:20230523T210000
DTEND;TZID=Europe/Berlin:20230523T230000
DTSTAMP:20260423T145419
CREATED:20230331T123347Z
LAST-MODIFIED:20230331T123347Z
UID:2809-1684875600-1684882800@hochschulfilmclub.de
SUMMARY:Nope - OmU
DESCRIPTION:\n\n\nSanta Clarita Valley\, California. Siblings and animal trainers Otis “OJ” and Emerald Haywood\, the young owners of the Haywood Hollywood horse-training business\, find themselves struggling to keep their family ranch afloat after the death of their father in a freak accident. \nWhile pondering the thought of finally selling the business to the nearby theme park manager Jupe\, OJ becomes witness to a strange object in the sky. While he is not too fond of that discovery\, his sister sees it as a chance to save their business by capturing video evidence of the alleged UFO and selling it to the media. However\, the next time the otherworldly visitor returns\, the ambitious investigators find themselves in front of a completely new kind of horror.\n\nAfter his previous movies „Get Out” and “Us”\, director Jordan Peele once again delivers a movie that is way less interested in spooking the audience with scary monsters\, and much more in carefully showing the mundane horrors already present in everyday society (although dialed up significantly). In this case\, the horror of spectacle\, and the destructive power our craving in experiencing it can create. \nA truly chilling experience with an unexpected twist on the old “UFO”-movie genre.\n\n\n\n\n\n\n\nTitel:\nNope - OmU\n\n\nProduktion:\nUSA / 2022 / 130 min\n\n\nRegisseur:\nJordan Peele\n\n\nDrehbuch:\nJordan Peele\n\n\nKamera:\nHoyte van Hoytema\n\n\nSchauspieler*innen:\nDaniel Kaluuya\, Keke Palmer / Steven Yeun / Brandon Perea\n\n\nTrailer:\nYoutube\n\n\n\n
URL:https://hochschulfilmclub.de/veranstaltung/nope-omu/
LOCATION:Helmholtzplatz 2\, Ilmenau
ATTACH;FMTTYPE=image/jpeg:https://hochschulfilmclub.de/wp-content/uploads/2023/03/Nope.jpg
END:VEVENT
END:VCALENDAR