BEGIN:VCALENDAR
VERSION:2.0
PRODID:-//Hochschulfilmclub - ECPv4.3.3//NONSGML v1.0//EN
CALSCALE:GREGORIAN
METHOD:PUBLISH
X-WR-CALNAME:Hochschulfilmclub
X-ORIGINAL-URL:https://hochschulfilmclub.de
X-WR-CALDESC:Events for Hochschulfilmclub
BEGIN:VEVENT
DTSTART;TZID=Europe/Berlin:20160623T210000
DTEND;TZID=Europe/Berlin:20160623T230000
DTSTAMP:20260425T202654
CREATED:20160602T164357Z
LAST-MODIFIED:20160602T164357Z
UID:149-1466715600-1466722800@hochschulfilmclub.de
SUMMARY:Louder Than Bombs
DESCRIPTION:Gene: I think he deserves the truth.\n\nJonah: Truth? What is the truth?\nJahre nach dem Tod der Kriegsfotografin Isabelle (Isabelle Hupert) bereitet ihr Witwer Gene (Gabriel Byrne) eine Ausstellung ihrer Werke vor und die ganzen Erinnerungen an sie fluten zurück in sein Leben und das seiner Söhne. Während der ältere Sohn Jonah (Jesse Eisenberg) sein Leben gut in den Griff bekommen zu haben scheint\, schlingert der jüngere Conrad (Devin Druid) mitten in der Pubertät mit der Beziehung zu seinem Vater.\n\nJoachim Trier zeigt in seinem neuesten Film\, und seinen ersten in Hollywood mit internationaler Besetzung\, die komplizierten Wechselwirkungen zwischen Vätern und Söhnen im Nachbeben des Verlustes. Er versucht in Szenen von Erinnerungen und Visionen\, Momenten des Alltags und persönlichen Gesprächen das emotionale Seelenleben seiner Figuren auszuleuchten und es in spannende Bilder einzufangen.\n\n\n\nTitel:\nLouder Than Bombs\n\n\nProduktion:\nNorwegen\, Frankreich\, Dänemark\, USA/2016\n\n\nRegisseur:\nJoachim Trier\n\n\nDrehbuch:\nJoachim Trier\, Eskil Vogt\n\n\nKamera:\nJakob Ihre\n\n\nMusik:\nOla Fløttum\n\n\nSchauspieler:\nJesse Eisenberg\, Amy Ryan\, Gabriel Byrne\, David Strathain\, Isabelle Huppert\n\n\nTechnik:\nFarbe/105 Minuten\n\n\nGenre\nDrama\n\n\nAuszeichnung:\nCannes 2015: Wettbewerb\n\n\nTrailer:\nYoutube\n\n\n
URL:https://hochschulfilmclub.de/veranstaltung/louder-than-bombs/
LOCATION:Helmholtzplatz 2\, Ilmenau
ATTACH;FMTTYPE=image/png:https://hochschulfilmclub.de/wp-content/uploads/2016/06/160623_louderthanbombs.png
END:VEVENT
END:VCALENDAR