BEGIN:VCALENDAR
VERSION:2.0
PRODID:-//Hochschulfilmclub - ECPv4.3.3//NONSGML v1.0//EN
CALSCALE:GREGORIAN
METHOD:PUBLISH
X-WR-CALNAME:Hochschulfilmclub
X-ORIGINAL-URL:https://hochschulfilmclub.de
X-WR-CALDESC:Events for Hochschulfilmclub
BEGIN:VEVENT
DTSTART;TZID=Europe/Berlin:20160621T210000
DTEND;TZID=Europe/Berlin:20160621T233000
DTSTAMP:20260425T221556
CREATED:20160602T163334Z
LAST-MODIFIED:20160602T172902Z
UID:145-1466542800-1466551800@hochschulfilmclub.de
SUMMARY:Legend (OmU)
DESCRIPTION:Swinging Sixties\, London: Die eineiigen Zwillingsbrüder Ronnie und Reggie Kray (beide Tom Hardy) bringen es in der Unterwelt der pulsierenden englischen Hauptstadt zu zweifelhaftem Ruhm. Durch ihre kriminellen Machenschaften und ihre Skrupellosigkeit\, die selbst für damalige Verhältnisse schockiert\, ist den schon bald berüchtigten Gangstern ein schneller Aufstieg sicher.\n\nDoch während Reggie Erfolg in Geschäftsangelegenheiten vorweisen kann und enorm zum Aufbau des Imperiums beiträgt\, gefährdet sein Bruder Ron dieses am laufenden Band. Der erst kürzlich aus der Psychiatrie entlassene Zwilling\, bei dem Schizophrenie diagnostiziert wurde\, bringt den erfolgreichen Familienbetrieb immer häufiger durch seine unkontrollierten Wutausbrüche in Gefahr. Als Reggie mit der zerbrechlichen Frances Shea (Emily Browning) schließlich seine Traumfrau kennenlernt und die von Reggie erwartet\, dass er sich für eine Seite entscheidet\, bricht die Hölle los. Ronnie gerät immer weiter außer Kontrolle und Reggie ist damit überfordert\, sowohl seine Ehe als auch das Kray-Imperium zu retten.\n\n„Legend“ trieft vor Ironie und Gangster Rock ‘n‘ Roll. Während Tom Hardy in „No Turning Back“ ganz alleine zu sehen war\, kann man ihn hier jedoch gleich doppelt erleben. In seiner Doppelrolle schockt er als Psychoonkel und smarter Reggie mit den Schlagringen\, und überzeugt.\n\n\n\nTitel:\nLegend\n\n\nProduktion:\nGroßbritannien\, Frankreich/2015\n\n\nRegisseur:\nBrian Helgeland\n\n\nDrehbuch:\nBrian Helgeland\n\n\nKamera:\nDick Pope\n\n\nMusik:\nCarter Burwell\n\n\nSchauspieler:\nTom Hardy\, Paul Anderson\, Christopher Eccleston\, Emily Browning\, Taron Egerton\n\n\nTechnik:\nFarbe/131 Minuten\n\n\nAuszeichnung:\nBritish Independent Film Award für den besten Hauptdarsteller\n\n\nSprache:\nEnglisch mit englischen Untertiteln\n\n\nTrailer:\nYoutube\n\n\n
URL:https://hochschulfilmclub.de/veranstaltung/legend/
LOCATION:Helmholtzplatz 2\, Ilmenau
ATTACH;FMTTYPE=image/png:https://hochschulfilmclub.de/wp-content/uploads/2016/06/160621_legend_OmU.png
END:VEVENT
END:VCALENDAR