BEGIN:VCALENDAR
VERSION:2.0
PRODID:-//Hochschulfilmclub - ECPv4.3.3//NONSGML v1.0//EN
CALSCALE:GREGORIAN
METHOD:PUBLISH
X-WR-CALNAME:Hochschulfilmclub
X-ORIGINAL-URL:https://hochschulfilmclub.de
X-WR-CALDESC:Events for Hochschulfilmclub
BEGIN:VEVENT
DTSTART;TZID=Europe/Berlin:20170202T210000
DTEND;TZID=Europe/Berlin:20170202T233000
DTSTAMP:20260424T202931
CREATED:20170128T192601Z
LAST-MODIFIED:20170128T192601Z
UID:521-1486069200-1486078200@hochschulfilmclub.de
SUMMARY:Kurzfilmnacht
DESCRIPTION:Sehnlichst warten wir auf das Ende des Semesters und erschaudern bei dem Gedanken an die Prüfungen\, die vor uns liegen. Aber zunächst sollten wir unser Augenmerk auf die Kurzfilmnacht legen\, mit der wir uns bei euch für dieses Semester verabschieden. Aus einer bunten Mischung und vielen verschiedenen Quellen haben wir für euch lustige\, traurige\, romantische und seltsame Filme aus aller Welt ausgesucht um euch einen spektakulären Abend zu bieten.\n\nDas Kurzfilmspektakel wird\, wie gewohnt\, in drei handlichen Blöcken serviert und handverlesene Beiträge beinhalten\, die uns zum Schmunzeln\, Schluchzen oder Nachdenken gebracht haben. Gebt euch zum Semesterfinale dem Rausch der kurzen Versuchung hin und genießt mit uns eine weitere köstliche Ausgabe der traditionsreichen Kurzfilmnacht!\n\nIhr habt selber einen Kurzfilm gedreht und würdet den gern der ganzen Welt zeigen? Dann sprecht uns einfach an oder schreibt uns eine E-Mail an info@hochschulfilmclub.de\, denn wir sind immer begeistert Ilmenauer Kunst zu präsentieren.
URL:https://hochschulfilmclub.de/veranstaltung/kurzfilmnacht/
LOCATION:Helmholtzplatz 2\, Ilmenau
CATEGORIES:Kurzfilmnacht
ATTACH;FMTTYPE=image/png:https://hochschulfilmclub.de/wp-content/uploads/2017/01/170202_KFN.png
END:VEVENT
END:VCALENDAR