BEGIN:VCALENDAR
VERSION:2.0
PRODID:-//Hochschulfilmclub - ECPv4.3.3//NONSGML v1.0//EN
CALSCALE:GREGORIAN
METHOD:PUBLISH
X-WR-CALNAME:Hochschulfilmclub
X-ORIGINAL-URL:https://hochschulfilmclub.de
X-WR-CALDESC:Events for Hochschulfilmclub
BEGIN:VEVENT
DTSTART;TZID=Europe/Berlin:20250624T210000
DTEND;TZID=Europe/Berlin:20250624T230000
DTSTAMP:20260421T124327
CREATED:20250403T125607Z
LAST-MODIFIED:20250403T125607Z
UID:3879-1750798800-1750806000@hochschulfilmclub.de
SUMMARY:Kneecap (OmU)
DESCRIPTION:\n\n\nWhat happens when a politically charged Irish rap trio plays themselves in a biopic that doesn’t hold back? You get “Kneecap“ — a film that breaks all the rules\, blending raw energy\, dark humor\, and cultural defiance into a cinematic experience like no other. This isn’t just another music biopic. It’s two films in one: a wild\, often hilarious story of a band on the rise and a powerful statement on the fight for Irish language recognition.\n\nThe story might take some necessary liberties but it doesn’t sugarcoat it. Móglaí Bap\, Mo Chara\, and DJ Próvaí play themselves\, bringing an authenticity that no actor could replicate. The film dives headfirst into the rebellious spirit of the band — complete with plenty of alcohol\, drug use\, tons of swear words and unapologetic political statements. But beneath the madness\, there’s a deeper message: a reflection on identity\, language as both a political tool and a cultural lifeline\, and the legacy of British rule in Northern Ireland.\n\nIf you’re looking for a conventional biopic\, I hope you saw A Complete Unknown because this isn’t it. But if you’re up for a politically charged\, laugh-out-loud\, and at times deeply moving film that defies expectations\, “Kneecap“ is a must-see. Whether you love hip-hop\, history\, or just a great night at the movies\, this one delivers. (TG)\n\n \n\n\n\n\n\n\nTitel:\nKneecap (OmU)\n\n\nProduktion:\nIreland / 2025 / 105 min\n\n\nRegisseur:\nRich Peppiatt\n\n\nDrehbuch:\nRich Peppiatt\n\n\nKamera:\nRyan Kernaghan\n\n\nMusik:\nMichael 'Mikey' J Asante\n\n\nSchauspieler*innen:\nNaoise Ó Cairealláin\, Liam Óg Ó Hannaidh\, JJ Ó Dochartaigh\, Michael Fassbender\, Josie Walker\n\n\nTrailer:\nYoutube\n\n\n
URL:https://hochschulfilmclub.de/veranstaltung/kneecap-omu/
LOCATION:Helmholtzplatz 2\, Ilmenau
ATTACH;FMTTYPE=image/png:https://hochschulfilmclub.de/wp-content/uploads/2025/04/Englisch-blau-2.png
END:VEVENT
END:VCALENDAR