BEGIN:VCALENDAR
VERSION:2.0
PRODID:-//Hochschulfilmclub - ECPv4.3.3//NONSGML v1.0//EN
CALSCALE:GREGORIAN
METHOD:PUBLISH
X-WR-CALNAME:Hochschulfilmclub
X-ORIGINAL-URL:https://hochschulfilmclub.de
X-WR-CALDESC:Events for Hochschulfilmclub
BEGIN:VEVENT
DTSTART;TZID=Europe/Berlin:20190528T200000
DTEND;TZID=Europe/Berlin:20190528T213000
DTSTAMP:20260424T104619
CREATED:20190430T192840Z
LAST-MODIFIED:20190430T192840Z
UID:1737-1559073600-1559079000@hochschulfilmclub.de
SUMMARY:Kino divers. Ein Kurzfilmabend zu Respekt & Akzeptanz
DESCRIPTION:\n\n\nAnlässlich des 7. Deutschen Diversity-Tages laden der Gleichstellungrat der TU Ilmenau\, die Stabsstelle Campus-Familie\, die Schwerberhindertenvertretung und der Hochschulfilmclub e. V. ganz herzlich ein:\n\nSechs kurze Spiel- und Animationsfilme zeigen das Wettrennen um einen Krippenplatz\, das Finden der eigenen Identität\, den Umgang mit unerwartetem Familienzuwachs\, das Erklimmen einer höheren Pegestufe und das Erleben der ersten Liebe. Wir sehen Männer* in rosa Hasenkostümen\, Frauen* am Rande des Nervenzusammenbruchs und Kinder\, die sich dem Schubladendenken der Erwachsenenwelt widersetzen. Wir blicken in die strengen Augen des Schulleiters oder der Dame vom medizinischen Dienst. Wir lauschen einer gehörigen Portion Hessisch\, den Stimmen des örtlichen Gesangsvereins und dem\, was das Herz uns sagt. Und obendrein erhalten wir Antwort auf die Frage: Was geschieht eigentlich\, wenn sich ein Frosch in ein Schaf verliebt?\n\nUm auch Menschen mit Seh- und Hörbeeinträchtigungen den vollen Kinospaß zu ermöglichen\, werden alle Filme mit erweiterten Untertiteln und Audiodeskriptionen angeboten. Zur Nutzung der Audiodeskriptioinen bitte Handy und Kopfhörer mitbringen\, sie werden über die App GRETA bereitgestellt. Einfach die App GRETA kostenfrei im AppStore für iOS oder bei Google Play für Android auf das Smartphone laden und los geht’s.\n\nKostenloser Eintritt!\n\n\n
URL:https://hochschulfilmclub.de/veranstaltung/kino-divers-ein-kurzfilmabend-zu-respekt-akzeptanz/
LOCATION:Ehrenbergstraße 29\, Ilmenau
ATTACH;FMTTYPE=image/png:https://hochschulfilmclub.de/wp-content/uploads/2019/04/20190528-Kino-divers.png
END:VEVENT
END:VCALENDAR