BEGIN:VCALENDAR
VERSION:2.0
PRODID:-//Hochschulfilmclub - ECPv4.3.3//NONSGML v1.0//EN
CALSCALE:GREGORIAN
METHOD:PUBLISH
X-WR-CALNAME:Hochschulfilmclub
X-ORIGINAL-URL:https://hochschulfilmclub.de
X-WR-CALDESC:Events for Hochschulfilmclub
BEGIN:VEVENT
DTSTART;TZID=Europe/Berlin:20160712T210000
DTEND;TZID=Europe/Berlin:20160712T233000
DTSTAMP:20260426T030721
CREATED:20160602T174910Z
LAST-MODIFIED:20160602T174910Z
UID:175-1468357200-1468366200@hochschulfilmclub.de
SUMMARY:Joy (OmU)
DESCRIPTION:Der Film erzählt die Geschichte der Joy Mangano\, welche von Jennifer Lawrence verkörpert wird. Einer alleinerziehenden Mutter von zwei Kindern\, die zu einer der erfolgreichsten Unternehmerinnen der USA wurde. In den 1970er Jahren in ärmlichen und chaotischen Familienverhältnissen in Long Beach aufgewachsen\, zeigte sie bereits als Jugendliche Ambitionen einmal eine erfolgreiche Unternehmerin zu werden. 1990 entwickelt sie mit dem „Miracle Mop“ ihr bis dato erfolgreichstes Produkt. Der Mop\, der das lästige Auswringen per Hand überflüssig macht\, wird zum Grundstein ihres Geschäftsimperiums. Hierbei verfolgt man den Werdegang von der durch viele Rückschläge dennoch nicht entmutigten Joy auf ihrem Weg von der Idee\, welche ihr beim Putzen kommt\, bis hin zur Frage der Finanzierung und Verbreitung ihres neuen Produkts. Dies ist jedoch immer mit Problemen der Familie verknüpft.\n\nHierbei besticht Jennifer Lawrence mit ihrer entwaffnenden Mischung aus natürlichem Charme und darstellerischem Feingefühl\, sodass man sich voll und ganz in die Situation der leidenden Joy Mangano hineinversetzen kann.\n\n\n\nTitel:\nJoy\n\n\nProduktion:\nUSA/2015\n\n\nRegisseur:\nDavid O. Russell\n\n\nDrehbuch:\nDavid O. Russell\n\n\nKamera:\nLinus Sandgren\n\n\nMusik:\nDavid Richard Campbell\, West Dylan Thordson\n\n\nSchauspieler:\nJennifer Lawrence\, Robert De Niro\, Bradley Cooper uvm.\n\n\nTechnik:\nFarbe/124 Minuten\n\n\nAuszeichnung:\nAuszeichnung in der Kategorie Beste Hauptdarstellerin – Komödie oder Musical für Jennifer Lawrence\n\n\nSprache:\nEnglisch mit englischen Untertiteln\n\n\nTrailer:\nYoutube\n\n\n
URL:https://hochschulfilmclub.de/veranstaltung/joy-omu/
LOCATION:Helmholtzplatz 2\, Ilmenau
ATTACH;FMTTYPE=image/png:https://hochschulfilmclub.de/wp-content/uploads/2016/06/160712_Joy.png
END:VEVENT
END:VCALENDAR