BEGIN:VCALENDAR
VERSION:2.0
PRODID:-//Hochschulfilmclub - ECPv4.3.3//NONSGML v1.0//EN
CALSCALE:GREGORIAN
METHOD:PUBLISH
X-WR-CALNAME:Hochschulfilmclub
X-ORIGINAL-URL:https://hochschulfilmclub.de
X-WR-CALDESC:Events for Hochschulfilmclub
BEGIN:VEVENT
DTSTART;TZID=Europe/Berlin:20160630T210000
DTEND;TZID=Europe/Berlin:20160630T230000
DTSTAMP:20260425T202655
CREATED:20160602T170213Z
LAST-MODIFIED:20160602T170213Z
UID:157-1467320400-1467327600@hochschulfilmclub.de
SUMMARY:Im Rausch der Sterne
DESCRIPTION:Seit seinem 16. Lebensjahr ist Adam Jones (Bradley Cooper) in der Küche zuhause und verbindet in seinen kulinarischen Kreationen Genie und Wahnsinn. Zuletzt jedoch mehr Wahnsinn\, denn der Rockstar unter den Pariser Küchenchefs driftet immer weiter in seinen exzessiven Lebensstil und schließlich in die Drogensucht ab. Dies kostet ihn seinen Job in einem der exklusivsten Sternerestaurants von Paris und seine Reputation. Nach zwei Jahren Entzug kehrt er an den Herd zurück und zieht nach London\, um neu anzufangen. Trotz seiner Pause und geltungsbedürftigen Konkurrenten\, die ihn längst abgeschrieben haben\, strebt Adam nach dem dritten Michelin-Stern und sucht sich ein Team zusammen\, um seine Vision zu realisieren. Hierzu zählt auch Helene (Sienna Miller)\, für die Adam nicht nur in der Küche etwas übrig hat. Einziges Problem: Helene kann Adam nicht ausstehen\, weil der wie ein Besessener seine Mitarbeiter für ein perfektes Menü in den Wahnsinn treibt und regelmäßig die Beherrschung verliert. Bald wird Adam klar\, dass neben Kreativität\, Leidenschaft und Ehrgeiz auch Teamgeist erforderlich ist\, um in der Londoner Gourmetszene erfolgreich zu sein.\n\n\n\nTitel:\nIm Rausch der Sterne\n\n\nProduktion:\nUSA/2015\n\n\nRegisseur:\nJohn Wells\n\n\nDrehbuch:\nSteven Knight (screenplay)\, Michael Kalesniko (story)\n\n\nSchauspieler:\nBradley Cooper\, Sienna Miller\, Daniel Brühl\, Omar Sy\n\n\nTechnik:\nFarbe/101 Minuten\n\n\nTrailer:\nYoutube\n\n\n
URL:https://hochschulfilmclub.de/veranstaltung/im-rausch-der-sterne/
LOCATION:Helmholtzplatz 2\, Ilmenau
ATTACH;FMTTYPE=image/png:https://hochschulfilmclub.de/wp-content/uploads/2016/06/160630_ImRauschDerSterne.png
END:VEVENT
END:VCALENDAR