BEGIN:VCALENDAR
VERSION:2.0
PRODID:-//Hochschulfilmclub - ECPv4.3.3//NONSGML v1.0//EN
CALSCALE:GREGORIAN
METHOD:PUBLISH
X-WR-CALNAME:Hochschulfilmclub
X-ORIGINAL-URL:https://hochschulfilmclub.de
X-WR-CALDESC:Events for Hochschulfilmclub
BEGIN:VEVENT
DTSTART;TZID=Europe/Berlin:20220713T210000
DTEND;TZID=Europe/Berlin:20220713T235500
DTSTAMP:20260420T084341
CREATED:20220330T145734Z
LAST-MODIFIED:20220401T114130Z
UID:2509-1657746000-1657756500@hochschulfilmclub.de
SUMMARY:Helden der Wahrscheinlichkeit
DESCRIPTION:\n\n\nTag 2 des Open Air Sommerkinos 2022.\n\nSoldat Markus ist kein Mann vieler Worte. Ihm geht Effizienz über alles\, für Gefühle hat er nicht besonders viel übrig. Umso unvermittelter trifft ihn der Tod seiner Frau\, die bei einem Zugunglück ums Leben kommt. Fortan muss Markus sich allein um seine Teenager-Tochter Mathilde kümmern. Dabei will er eigentlich nur seine Ruhe\, und seine Trauer über ein paar Bier vergessen.\nDas ändert sich\, als plötzlich der Mathematiker Otto vor der Tür steht und ihm eine schockierende Theorie unterbreitet: Markus Frau soll nicht Opfer eines unglücklichen Zufalls\, sondern ein Kollateralschaden bei der Beseitigung eines Kronzeugen gewesen sein\, der gegen die berüchtigte Bikergang „Riders of Justice“ hätte aussagen sollen. Eine Nachricht\, die in Markus die Rachsucht weckt…\n\nRegisseur Anders Thomas Jensen liefert mit „Helden der Wahrscheinlichkeit“ eine gelungene Mischung aus Rache-Thriller à la „John Wick“ und dunkler Komödie mit erstaunlich viel emotionalem Tiefgang. Der Film lebt vor allem von seinen herrlich schrägen Charakteren\, und ist daher nicht nur für Fans des dänischen Kinos ein Muss\, sondern auch für alle die auf bitterbösen Humor stehen. \n\n\n\n\n\n\n\nTitel:\nHelden der Wahrscheinlichkeit\n\n\nProduktion:\nDänemark / 2020 / 116min\n\n\nRegisseur:\nAnders Thomas Jensen\n\n\nDrehbuch:\nAnders Thomas Jensen\n\n\nKamera:\nKasper Tuxen\n\n\nSchauspieler*innen:\nMads Mikkelsen / Andrea Heick Gadeberg / Nikolaj Lie Kaas\n\n\nTrailer:\nYoutube\n\n\n
URL:https://hochschulfilmclub.de/veranstaltung/helden-der-wahrscheinlichkeit/
LOCATION:Ehrenbergwiese\, Ilmenau
ATTACH;FMTTYPE=image/jpeg:https://hochschulfilmclub.de/wp-content/uploads/2022/03/Helden_der_Wahrscheinlichkeit.jpg
END:VEVENT
END:VCALENDAR