BEGIN:VCALENDAR
VERSION:2.0
PRODID:-//Hochschulfilmclub - ECPv4.3.3//NONSGML v1.0//EN
CALSCALE:GREGORIAN
METHOD:PUBLISH
X-WR-CALNAME:Hochschulfilmclub
X-ORIGINAL-URL:https://hochschulfilmclub.de
X-WR-CALDESC:Events for Hochschulfilmclub
BEGIN:VEVENT
DTSTART;TZID=Europe/Berlin:20191029T210000
DTEND;TZID=Europe/Berlin:20191029T233000
DTSTAMP:20260424T121827
CREATED:20190930T172644Z
LAST-MODIFIED:20190930T173558Z
UID:1831-1572382800-1572391800@hochschulfilmclub.de
SUMMARY:Halloween-Special: Hereditary - Das Vermächtnis
DESCRIPTION:\n\n\nHalloween steht vor der Tür! Daher zeigen wir euch in dieser Woche den spannenden Horror-Thriller „Hereditary – Das Vermächtnis“.\n\nTrotz einiger Tragödien in der Vergangenheit führt die Familie Graham ein recht beschauliches Leben: Annie Graham (Toni Collette) ist eine liebevolle Mutter und lebt zusammen ihrem Mann Steve (Gabriel Byrne) und den beiden Kindern Peter (Alex Wolff) und Charlie (Milly Shapiro) etwas abgelegen am Waldrand. Annie ist Galeristin und baut für eine Ausstellung zu Hause aufwändige Miniaturmodelle\, ihr Mann Steve ist ein reservierter Psychiater\, Peter schlägt sich mit den üblichen Teenagerproblemen rum und Charlie ist eine leicht schräge Außenseiterin.\n\nDoch als Annies Mutter Ellen\, das Oberhaupt der Familie\, stirbt\, muss sich die Familie mit mysteriösen und grauenhaften Ereignissen auseinandersetzen. Nach und nach kommen die furchterregenden Geheimnisse ihrer Vorfahren ans Licht. Für Annie\, Steve\, Peter und Charlie beginnt plötzlich ein Wettlauf gegen ihr dunkles und unheilvolles Schicksal\, welches ihre Ahnen ihnen hinterlassen haben…\n\nErmäßigt: 3€\nRegulär: 4€\n\n\n\n\n\n\n\nTitel:\nHereditary - Das Vermächtnis\n\n\nProduktion:\nUSA / 2018\n\n\nRegisseur:\nAri Aster\n\n\nDrehbuch:\nAri Aster\n\n\nMusik:\nColin Stetson\n\n\nKamera:\nPawel Pogorzelski\n\n\nSchauspieler*innen:\nToni Collette\, Milly Shapiro\, Gabriel Byrne\n\n\nTechnik:\nFarbe / 127 Minuten\n\n\nTrailer:\nYoutube\n\n\n
URL:https://hochschulfilmclub.de/veranstaltung/halloween-special-hereditary-das-vermaechtnis/
LOCATION:Helmholtzplatz 2\, Ilmenau
ATTACH;FMTTYPE=image/png:https://hochschulfilmclub.de/wp-content/uploads/2019/09/Hereditary.png
END:VEVENT
END:VCALENDAR