BEGIN:VCALENDAR
VERSION:2.0
PRODID:-//Hochschulfilmclub - ECPv4.3.3//NONSGML v1.0//EN
CALSCALE:GREGORIAN
METHOD:PUBLISH
X-WR-CALNAME:Hochschulfilmclub
X-ORIGINAL-URL:https://hochschulfilmclub.de
X-WR-CALDESC:Events for Hochschulfilmclub
BEGIN:VEVENT
DTSTART;TZID=Europe/Berlin:20241210T210000
DTEND;TZID=Europe/Berlin:20241210T230000
DTSTAMP:20260420T030002
CREATED:20241007T081704Z
LAST-MODIFIED:20241007T081704Z
UID:3559-1733864400-1733871600@hochschulfilmclub.de
SUMMARY:Ghostbusters: Frozen Empire
DESCRIPTION:\n\n\nDrei Jahre nach den Ereignissen aus „Ghostbusters: Legacy“ ist die neue Ghostbusters-Truppe nach New York umgezogen. Dort angekommen\, müssen sie schnell feststellen\, dass sie trotz ihrer Erfolge im mittleren Westen in der Metropole keine Narrenfreiheit genießen.\nGerade als unsere Ghostbusters eine mysteriöse Kugel erhalten\, muss Phoebe (Grace) sich mit den Problemen des Erwachsenwerdens beschäftigen. Die Kugel diente lange als Gefängnis für eine mesopotamische Gottheit mit Frostkräften. Doch das Gefängnis beginnt zu bröckeln...\nGil Kenans Fortsetzung der Ghostbusters-Reihe ist wie alle bisherigen Filme abenteuerliches Popcorn-Kino. Wer die Dynamik und Modernisierungen des Vorgängerfilms mochte wird auch hier gut unterhalten sein. Die Comedy und One-Liner-Frequenz liegt extrem hoch und wirkt auf einige Zuschauer vielleicht etwas zu übertrieben\, dafür muss auch niemand Angst vor zu großem Horror haben. Die Familienfreundlichkeit des letzten Teils wird auch hier fortgesetzt und mit noch mehr Nostalgie und Cameos ergänzt. (SP)\n\n \n\n\n\n\n\n\nTitel:\nGhostbusters: Frozen Empire\n\n\nProduktion:\nUSA / 2024 / 115 min\n\n\nRegisseur:\nGil Kenan\n\n\nDrehbuch:\nGil Kenan\, Jason Reitman\n\n\nKamera:\nEric Steelberg\n\n\nMusik:\nDario Marianelli\n\n\nSchauspieler*innen:\nPaul Rudd\, Carrie Coon\, Finn Wolfhard\, Mckenna Grace\, Kumail Nanjiani\n\n\nTrailer:\nYoutube\n\n\n
URL:https://hochschulfilmclub.de/veranstaltung/ghostbusters-frozen-empire/
LOCATION:Helmholtzplatz 2\, Ilmenau
ATTACH;FMTTYPE=image/png:https://hochschulfilmclub.de/wp-content/uploads/2024/10/Ghost_Busters_Frozen_Empire.png
END:VEVENT
END:VCALENDAR