BEGIN:VCALENDAR
VERSION:2.0
PRODID:-//Hochschulfilmclub - ECPv4.3.3//NONSGML v1.0//EN
CALSCALE:GREGORIAN
METHOD:PUBLISH
X-WR-CALNAME:Hochschulfilmclub
X-ORIGINAL-URL:https://hochschulfilmclub.de
X-WR-CALDESC:Events for Hochschulfilmclub
BEGIN:VEVENT
DTSTART;TZID=Europe/Berlin:20170112T210000
DTEND;TZID=Europe/Berlin:20170112T224500
DTSTAMP:20260424T144144
CREATED:20170107T213522Z
LAST-MODIFIED:20170107T220931Z
UID:477-1484254800-1484261100@hochschulfilmclub.de
SUMMARY:Frühstück bei Monsieur Henri
DESCRIPTION:Aus gesundheitlichen Gründen kann Monsieur Henri (Claude Brasseur) nicht länger alleine in seinem Pariser Apartment leben. Obwohl er nicht sonderlich begeistert davon ist\, nimmt der alte Griesgram den Vorschlag seines Sohnes (Guillaume De Tonquédec) an und vermietet ein Zimmer an die Studentin Constance (Noémie Schmidt) weiter. Dabei denkt er nicht daran\, dem Charme der jungen Constance zu erliegen\, sondern nutzt die junge Frau dazu\, Chaos in seiner Familie zu stiften.\n\nIvan Calbérac verfilmte sein eigenes Theaterstück und schaffte mit französischer Leichtigkeit und zündender Chemie zwischen den Hauptcharakteren eine leichte\, dialogreiche Komödie\, die charmante Unterhaltung bietet.\n\n \n\n\n\nTitel:\nFrühstück bei Monsieur Henri\n\n\nProduktion:\nFrankreich / 2015\n\n\nRegisseur:\nIvan Calbérac\n\n\nDrehbuch:\nLucie Truffaut\, Ivan Calbérac\n\n\nKamera:\nVincent Mathias\n\n\nMusik:\nPhilippe Fabbri\, Emmanuel Croset\n\n\nSchauspieler:\n\n\nClaude Brasseur\, Guillaume De Tonquédec\, Noémie Schmidt\, Frédérique Bel\n\n\n\nTechnik:\nFarbe / 99 Minuten\n\n\nTrailer:\nYoutube\n\n\n
URL:https://hochschulfilmclub.de/veranstaltung/fruehstueck-bei-monsieur-henri/
LOCATION:Helmholtzplatz 2\, Ilmenau
ATTACH;FMTTYPE=image/png:https://hochschulfilmclub.de/wp-content/uploads/2017/01/170112_Frühstück-bei-Monsieur-Henri.png
END:VEVENT
END:VCALENDAR