BEGIN:VCALENDAR
VERSION:2.0
PRODID:-//Hochschulfilmclub - ECPv4.3.3//NONSGML v1.0//EN
CALSCALE:GREGORIAN
METHOD:PUBLISH
X-WR-CALNAME:Hochschulfilmclub
X-ORIGINAL-URL:https://hochschulfilmclub.de
X-WR-CALDESC:Events for Hochschulfilmclub
BEGIN:VEVENT
DTSTART;TZID=Europe/Berlin:20190625T210000
DTEND;TZID=Europe/Berlin:20190625T230000
DTSTAMP:20260424T091906
CREATED:20190602T143631Z
LAST-MODIFIED:20190602T143704Z
UID:1767-1561496400-1561503600@hochschulfilmclub.de
SUMMARY:Free Solo (OV)
DESCRIPTION:\n\n\n++ This movie will screen in the original language version without subtitles. // Dieser Film wird in der englischen Originalfassung ohne Untertitel gezeigt.++\n\nMit „free soloing“ wird im Klettersport das Klettern ohne Hilfsmittel und Sicherungen bezeichnet. Der Sportler verlässt sich dabei ausschließlich auf seine Fähigkeiten beim Klettern. Unter diesen Bedingungen birgt der Sport ein extrem hohes Gefahrenpotenzial und ein Sturz endet aus größeren Höhen immer tödlich. Trotzdem hat der kalifornische Sportkletterer Alex Honnold das freie Klettern zu seiner Lebensaufgabe gemacht und stellt sich immer wieder neuen Herausforderungen. In Free Solo versucht der 33-Jährige den 2.307 Meter hohen Fels El Capitan im kalifornischen Yosemite-Nationalpark ohne Hilfsmittel zu erklettern. Ein Wagnis\, welches vor ihm noch niemand vorher versucht hatte. Begleitet wird er dabei von einem kleinen Kamerateam\, unter anderem vom Filmregisseur und Naturfotografen Jimmy Chin\, der selbst ein bekannter Bergsteiger ist.\n\nFree Solo dokumentiert das tollkühne Unterfangen von Honnold mit imposanten Bildern\, von den ersten Planungen bis hin zum tatsächlichen Versuch\, und porträtiert zudem seine besondere Persönlichkeit. Außerdem setzt sich der Film auch mit moralischen Fragestellungen auseinander und hinterfragt im Zuge dessen\, ob es überhaupt vertretbar ist\, ein solches Unternehmen mit Videokameras festzuhalten.\n\nErmäßigt/Reduced: 3€\n Regulär/Regular: 4€\n\n\n\n\n\n\n\nTitle:\nFree Solo\n\n\nProduction:\nUSA / 2018\n\n\nDirector:\nJimmy Chin\, Elizabeth Chai Vasarhelyi\n\n\nMusic:\nMarco Beltrami\n\n\nCinematography:\nJimmy Chin\, Clair Popkin\, Mikey Schaefer\n\n\nCast:\nAlex Honnold\, Tommy Caldwell\, Jimmy Chin\n\n\nTechnical Specs:\nColor / 100 minutes\n\n\nTrailer:\nYoutube\n\n\n
URL:https://hochschulfilmclub.de/veranstaltung/free-solo-ov/
LOCATION:Helmholtzplatz 2\, Ilmenau
ATTACH;FMTTYPE=image/png:https://hochschulfilmclub.de/wp-content/uploads/2019/06/20190625_Free-Solo_OV.png
END:VEVENT
END:VCALENDAR