BEGIN:VCALENDAR
VERSION:2.0
PRODID:-//Hochschulfilmclub - ECPv4.3.3//NONSGML v1.0//EN
CALSCALE:GREGORIAN
METHOD:PUBLISH
X-WR-CALNAME:Hochschulfilmclub
X-ORIGINAL-URL:https://hochschulfilmclub.de
X-WR-CALDESC:Events for Hochschulfilmclub
BEGIN:VEVENT
DTSTART;TZID=Europe/Berlin:20170628T210000
DTEND;TZID=Europe/Berlin:20170629T000000
DTSTAMP:20260420T085016
CREATED:20170620T193010Z
LAST-MODIFIED:20170620T193010Z
UID:731-1498683600-1498694400@hochschulfilmclub.de
SUMMARY:Filmquiz - HFC Geburtstagswoche
DESCRIPTION:\n\n\nSchwingt euch in euren Cadillac\, kommt in den BD-Club und testet euer Filmwissen mit uns!\n\nZusammen mit dem BD Club werden wir euch auf den Zahn fühlen. In insgesamt drei Fragerunden mit jeweils 16 Fragen aus den Bereichen Film und Schauspieler werden wir eure Köpfe gewaltig zum Rauchen bringen. Abkühlen könnt ihr euch mit einem erfrischenden Bier oder Cocktail.\n\nZwischen den Runden gibt es kleine Pausen. In diesen zählen wir eure Punkte der jeweiligen Runde aus. Das Team mit der höchsten Punktzahl erhält einen Rundensieg!\n\nAls größter Klugscheißer kann man jedoch nur den Hauptpreis abstauben\, wenn man insgesamt am Ende des Abends die höchste Punktzahl erreicht hat.\n\n1. Platz: Kombikarten für das Sommerkino am 12./13.Juli\n2. Platz: HFC Freikarten\n3. Platz: Snackgutscheine für eine HFC-Vorstellung\n\nDamit ihr so richtig zeigen könnt\, was in euch steckt\, sind keinerlei Hilfsmittel erlaubt! Anmelden könnt ihr eure Teams (max. 5 Personen) direkt online beim BD Club.\n\nEinlass: 20 Uhr\nEintritt: 0\,50€/1€\n\n\n
URL:https://hochschulfilmclub.de/veranstaltung/filmquiz-hfc-geburtstagswoche/
LOCATION:Max-Planck-Ring 18\, Ilmenau\, Deutschland
CATEGORIES:Eventwoche
ATTACH;FMTTYPE=image/png:https://hochschulfilmclub.de/wp-content/uploads/2017/06/20170628_Filmquiz.png
END:VEVENT
END:VCALENDAR