BEGIN:VCALENDAR
VERSION:2.0
PRODID:-//Hochschulfilmclub - ECPv4.3.3//NONSGML v1.0//EN
CALSCALE:GREGORIAN
METHOD:PUBLISH
X-WR-CALNAME:Hochschulfilmclub
X-ORIGINAL-URL:https://hochschulfilmclub.de
X-WR-CALDESC:Events for Hochschulfilmclub
BEGIN:VEVENT
DTSTART;TZID=Europe/Berlin:20190618T210000
DTEND;TZID=Europe/Berlin:20190618T230000
DTSTAMP:20260424T102228
CREATED:20190602T142523Z
LAST-MODIFIED:20190602T142523Z
UID:1757-1560891600-1560898800@hochschulfilmclub.de
SUMMARY:Die Unglaublichen 2
DESCRIPTION:\n\n\nNach dem Cliffhanger des ersten „Incredible“ Films im Jahre 2004 wurde lange Zeit spekuliert\, ob es eine Fortsetzung geben wird. Nach 14 Jahren hatte das Warten ein Ende.\n\nIm neuen Film muss die Familie Parr\, auch bekannt als die „Incredibles“\, unter dem von der Regierung verhangenen Superhelden-Verbot leiden. Doch bevor es zurück zur Normalität geht\, bekommt die Familie ein besonderes Angebot. Winston Deavor\, Chef eines gewaltigen Technikunternehmens\, ist ein heimlicher Superhelden-Fan. Deavor macht der Familie Parr ein außergewöhnliches Angebot: Während Elastigirl vor laufender Kamera die Stadt vor bösen Schurken beschützt\, um zu beweisen wie nützlich Helden sind\, darf der Rest der Familie in einer luxuriösen Villa wohnen. Mr. Incredible wird dabei ebenfalls vor neue Aufgaben gestellt\, für die andere Superkräfte nötig sind\, und zwar der alltägliche Wahnsinn. Bestehend aus Hausaufgaben\, Liebeskummer und der Entwicklung von Jack-Jack\, dem bisher superkräftefreien Sprössling der Incredibles. Während er sich noch an die neue Rollenverteilung und das Leben als alleiniger Hausmann gewöhnen muss\, kommt es jedoch für die Superhelden Familie ganz anders…\nErmäßigt: 3€\nRegulär: 4€\n\n\n\n\n\n\n\nTitel:\nDie Unglaublichen 2\n\n\nProduktion:\nUSA / 2018\n\n\nRegisseur:\nBrad Bird\n\n\nDrehbuch:\nBrad Bird\n\n\nMusik:\nMichael Giacchino\n\n\nKamera:\nMahyar Abousaeedi\n\n\nSynchronsprecher*innen:\nMarkus Maria Profitlich\, Emilia Schüle\, Mechthild Grossmann\, Riccardo Simonetti\n\n\nTechnik:\nFarbe / 118 Minuten\n\n\nTrailer:\nYoutube\n\n\n
URL:https://hochschulfilmclub.de/veranstaltung/die-unglaublichen-2/
LOCATION:Helmholtzplatz 2\, Ilmenau
ATTACH;FMTTYPE=image/png:https://hochschulfilmclub.de/wp-content/uploads/2019/06/20190618_Die-Unglaublichen-2.png
END:VEVENT
END:VCALENDAR