BEGIN:VCALENDAR
VERSION:2.0
PRODID:-//Hochschulfilmclub - ECPv4.3.3//NONSGML v1.0//EN
CALSCALE:GREGORIAN
METHOD:PUBLISH
X-WR-CALNAME:Hochschulfilmclub
X-ORIGINAL-URL:https://hochschulfilmclub.de
X-WR-CALDESC:Events for Hochschulfilmclub
BEGIN:VEVENT
DTSTART;TZID=Europe/Berlin:20251210T200000
DTEND;TZID=Europe/Berlin:20251210T220000
DTSTAMP:20260422T091157
CREATED:20251008T142407Z
LAST-MODIFIED:20251008T142407Z
UID:4100-1765396800-1765404000@hochschulfilmclub.de
SUMMARY:Die Feuerzangenbowle (DE) feat. FG Kunststofftechnik
DESCRIPTION:\n\n\nAuch dieses Jahr zeigt der Hochschulfilmclub zusammen mit dem Fachgebiet Kunststofftechnik\, dem Fachschaftsrat Maschinenbau\, dem Studierendenrat und dem FKTI den Kultstreifen „Die Feuerzangenbowle“ in der schönen Vorweihnachtszeit.\nJeder Student kennt die Geschichte des legendären Dr. Johannes Pfeiffer (nur echt mit drei f)\, der noch einmal die Schulbank drückt. In angeheiterter Herrenrunde bei Feuerzangenbowle erzählen sich die Honoratioren von ihren Schulstreichen. Der junge Schriftsteller Pfeiffer wurde als Kind „nur“ von einem Privatlehrer unterrichtet und kann demnach bei diesen Geschichten nicht mithalten. So beschließt er eine Rückkehr an die Schule – und zwar als Schüler. Als Primaner getarnt erlebt er alles\, was zu einer richtigen Schülerkarriere gehört. Angefangen bei unzähligen Klassenbucheinträgen\, über eine schwatzhafte Zimmerwirtin\, gnadenlos bimmelnde Wecker zu unmöglichen Uhrzeiten und einsame Zeiten im Karzer bis hin zur Schülerliebe mit dem Namen Eva.\nDamit ihr dabei nicht verdursten müsst\, gibt es natürlich wieder passend zum Film echte Feuerzangenbowle.\nAber: „Jeder nor einen wönzigen Schlock“! Lasst euch diese Tradition nicht entgehen.\n\nDer Einlass und Ausschank der Feuerzangenbowle beginnt um 19 Uhr. Der Film startet um 20:00 Uhr.\n\n \n\n\n\n\n\n\nTitel:\nDie Feuerzangenbowle\n\n\nProduktion:\nGermany / 1944 / 97 min\n\n\nRegisseur:\nHelmut Weiss\n\n\nDrehbuch:\nHeinrich Spoerl\n\n\nKamera:\nEwald Daub\n\n\nMusik:\nWerner Bochmann\n\n\nStarring:\nHeinz Rühmann\n\n\nTrailer:\nYoutube\n\n\n
URL:https://hochschulfilmclub.de/veranstaltung/die-feuerzangenbowle-2025/
LOCATION:Helmholtzplatz 2\, Ilmenau
END:VEVENT
END:VCALENDAR