BEGIN:VCALENDAR
VERSION:2.0
PRODID:-//Hochschulfilmclub - ECPv4.3.3//NONSGML v1.0//EN
CALSCALE:GREGORIAN
METHOD:PUBLISH
X-WR-CALNAME:Hochschulfilmclub
X-ORIGINAL-URL:https://hochschulfilmclub.de
X-WR-CALDESC:Events for Hochschulfilmclub
BEGIN:VEVENT
DTSTART;TZID=Europe/Berlin:20160628T210000
DTEND;TZID=Europe/Berlin:20160628T230000
DTSTAMP:20260425T202357
CREATED:20160602T165148Z
LAST-MODIFIED:20160602T165244Z
UID:153-1467147600-1467154800@hochschulfilmclub.de
SUMMARY:Cartel Land
DESCRIPTION:Die offensichtlichen Verwicklungen des mexikanischen Drogenkriegs auf beiden Seiten der Grenze sind hinreichend bekannt: die Kartelle\, die mexikanische und US-amerikanische Politik\, Polizei\, Militär.\n\nMatthew Heineman zeigt in seinem Dokumentarfilm dagegen die Perspektive zweier ziviler Akteure: Die Bürgerwehr „Autodefensas“ versucht auf mexikanischer Seite\, Städte aus den Händen eines Drogenkartells zurückzuerobern\, die paramilitärische „Arizona Border Recon“ versucht Drogenschmuggler auf US-amerikanischen Boden zu stoppen.\n\nEin Jahr lang begleitete der Regisseur die beiden „Anführer“ der Gruppen und zeichnet so ein Bild derer\, die zwischen die Fronten des Drogenkriegs geraten sind und sich nicht anders zu helfen wissen\, als sich mit eigenen Mitteln zur Wehr zu setzen. Unweigerlich stellt sich dabei die Frage\, wo die Grenze zwischen gut und böse verläuft\, was noch erlaubt ist\, in einem bereits Jahrzehnte andauernden Krieg mit zahllosen Opfern und keinem Ende in Sicht.\n\nMatthew Heineman schafft ein aufwühlendes\, brutales\, intimes Portrait des Alptraums von beiden Seiten der Grenze. Nicht umsonst wurde er dafür u.a. mit dem „Directing Award“ auf dem Sundance Film Festival ausgezeichnet und CARTEL LAND für den Oscar für den Besten Dokumentarfilm nominiert.\n\n\n\nTitel:\nCartel Land\n\n\nProduktion:\nUSA/2015\n\n\nRegisseur:\nMatthew Heineman\n\n\nKamera:\nMatthew Heineman\, Matt Porwoll\n\n\nMusik:\nJackson Greenberg\,\n\nH. Scott Salinas\n\n\nTechnik:\nFarbe/100 Minuten\n\n\nAuszeichnung:\nInsgesamt 11 Filmpreise & 31 Nominierungen\, darunter: „Directing Award“ & „Cinematography Award“ des Sundance Film Festivals und Nominiert als „Bester Dokumentarfilm“ der Oscarverleihung 2016\n\n\nTrailer:\nYoutube\n\n\n
URL:https://hochschulfilmclub.de/veranstaltung/cartel-land/
LOCATION:Helmholtzplatz 2\, Ilmenau
ATTACH;FMTTYPE=image/png:https://hochschulfilmclub.de/wp-content/uploads/2016/06/160628_CartelLand.png
END:VEVENT
END:VCALENDAR