BEGIN:VCALENDAR
VERSION:2.0
PRODID:-//Hochschulfilmclub - ECPv4.3.3//NONSGML v1.0//EN
CALSCALE:GREGORIAN
METHOD:PUBLISH
X-WR-CALNAME:Hochschulfilmclub
X-ORIGINAL-URL:https://hochschulfilmclub.de
X-WR-CALDESC:Events for Hochschulfilmclub
BEGIN:VEVENT
DTSTART;TZID=Europe/Berlin:20190703T200000
DTEND;TZID=Europe/Berlin:20190704T000000
DTSTAMP:20260424T090143
CREATED:20190602T170020Z
LAST-MODIFIED:20190602T170020Z
UID:1779-1562184000-1562198400@hochschulfilmclub.de
SUMMARY:Bohemian Rhapsody (OmU)
DESCRIPTION:++ This movie will screen in the original language version with German subtitles. // Dieser Film wird in der englischen Originalfassung mit deutschen Untertiteln gezeigt.++\n\nBohemian Rhapsody tells the story of legendary rock band Queen\, their music and their extraordinary lead singer Freddie Mercury. Freddie defied stereotypes and shattered convention to become one of the most beloved entertainers on the planet. The film traces the meteoric rise of the band through their iconic songs and revolutionary sound. They reach unparalleled success\, but in an unexpected turn Freddie\, surrounded by darker influences\, shuns Queen in pursuit of his solo career. Having suffered greatly without the collaboration of Queen\, Freddie manages to reunite with his bandmates just in time for the big Live Aid concert in Wembley. While bravely facing a recent AIDS diagnosis\, Freddie leads the band in one of the greatest performances in the history of rock music. Queen cements a legacy that continues to inspire outsiders\, dreamers and music lovers to this day.\n\nCome and feel the music and story of “Bohemian Rhapsody” open air in July at our “Sommerkino”! We will announce further information on social media.\n\n \n\n\n\nTitle:\nBohemian Rhapsody\n\n\nProduction:\nUK\, USA / 2018\n\n\nDirector:\nBryan Singer\n\n\nScreenplay:\nAnthony McCarten\n\n\nCinematography:\nNewton Thomas Sigel\n\n\nMusic:\nJohn Ottman\n\n\nCast:\nRami Malek\, Lucy Boynton\, Gwilym Lee\n\n\nTechnical Specs:\nColor / 134 minutes\n\n\nTrailer:\nYoutube\n\n\n
URL:https://hochschulfilmclub.de/veranstaltung/bohemian-rhapsody-omu/
LOCATION:Ehrenbergwiese\, Ilmenau
CATEGORIES:Sommerkino
ATTACH;FMTTYPE=image/png:https://hochschulfilmclub.de/wp-content/uploads/2019/06/20190703_Bohemian-Rhapsody_OV.png
END:VEVENT
END:VCALENDAR