BEGIN:VCALENDAR
VERSION:2.0
PRODID:-//Hochschulfilmclub - ECPv4.3.3//NONSGML v1.0//EN
CALSCALE:GREGORIAN
METHOD:PUBLISH
X-WR-CALNAME:Hochschulfilmclub
X-ORIGINAL-URL:https://hochschulfilmclub.de
X-WR-CALDESC:Events for Hochschulfilmclub
BEGIN:VEVENT
DTSTART;TZID=Europe/Berlin:20160607T210000
DTEND;TZID=Europe/Berlin:20160607T230000
DTSTAMP:20260426T011016
CREATED:20160602T154422Z
LAST-MODIFIED:20160602T161235Z
UID:129-1465333200-1465340400@hochschulfilmclub.de
SUMMARY:Asterix und Obelix: Mission Kleopatra
DESCRIPTION:Die zweite Realverfilmung der „Asterix und Obelix“- Comicbuchreihe führt die Helden des wohl bekanntesten Dorfes seiner Zeit nach Ägypten. Dort haben Cäsar und Kleopatra gewettet\, dass sie es nicht schaffe\, innerhalb von drei Monaten einen Palast mitten in der Wüste zu bauen. Kleopatra hat zur Leitung dieses Auftrags den leicht verpeilten Architekten Numerobis angestellt\, der im Falle des Gewinns mit Gold überschüttet und anderenfalls den Krokodilen zum Fraß vorgeworfen wird. Um letztem entgegenzuwirken\, sucht der verzweifelte Numerobis den Kontakt zu Asterix\, Obelix und Miraculix\, die sich auch prompt auf den Weg zum Nil machen. Durch verschiedenste Sabotageversuche\, die unzureichende Kompetenz des Architekten und den ungemeinen Zeitdruck scheint das Projekt allerdings zu scheitern. Motiviert greifen die Gallier dem geschwächten Ägypter unter die Arme und versuchen\, mit List und Zaubertrank den Auftrag zu retten. Neben dem Versuch einen Palast zu bauen\, nehmen sie im Land der Pharaonen auch noch alles an Abenteuern\, Raufereien und Klettereien mit\, was nur geht.\n\nWas auch kommen mag\, eines steht fest: Die spinnen\, die Ägypter!\nAsterix und Obelix: Mission Kleopatra zeigen wir euch mit unseren Freunden vom Bergfest e. V.\n\n\n\n\nTitel:\nAsterix und Obelix: Mission Kleopatra\n\n\nProduktion:\nFrankreich\, Deutschland/2002\n\n\nRegisseur:\nAlain Chabat\n\n\nDrehbuch:\nAlain Chabat\n\n\nKamera:\nLaurent Dailland\n\n\nMusik:\nPhilippe Chany\n\n\nSchauspieler:\nGérard Depardieu\, Christian Clavier\, Jamel Debbouze\, Monica Bellucci\n\n\nTechnik:\nFarbe/108 Minuten\n\n\nTrailer\nYoutube\n\n\n
URL:https://hochschulfilmclub.de/veranstaltung/asterix-und-obelix-mission-kleopatra/
LOCATION:Helmholtzplatz 2\, Ilmenau
ATTACH;FMTTYPE=image/png:https://hochschulfilmclub.de/wp-content/uploads/2016/06/160607_Asterix.png
END:VEVENT
END:VCALENDAR