BEGIN:VCALENDAR
VERSION:2.0
PRODID:-//Hochschulfilmclub - ECPv4.3.3//NONSGML v1.0//EN
CALSCALE:GREGORIAN
METHOD:PUBLISH
X-WR-CALNAME:Hochschulfilmclub
X-ORIGINAL-URL:https://hochschulfilmclub.de
X-WR-CALDESC:Events for Hochschulfilmclub
BEGIN:VEVENT
DTSTART;TZID=Europe/Berlin:20190416T210000
DTEND;TZID=Europe/Berlin:20190416T233000
DTSTAMP:20260424T203202
CREATED:20190331T193139Z
LAST-MODIFIED:20190331T193139Z
UID:1665-1555448400-1555457400@hochschulfilmclub.de
SUMMARY:A Star Is Born (OmU)
DESCRIPTION:++ This movie will screen in the original language version with German subtitles. // Dieser Film wird in der englischen Originalfassung mit deutschen Untertiteln gezeigt.++\n\nJackson Maine\, a famous country music singer with alcohol and drug problems\, plays a concert in California. After the show\, Jackson visits a drag bar where he witnesses a performance by Ally\, a waitress and singer-songwriter. Jackson is amazed by her performance\, they spend the night speaking to each other and Ally discloses to him the troubles she has faced in pursuing a professional music career. Jackson invites Ally to his next show. Despite her initial refusal she attends and with Jackson's encouragement sings on stage with him. Jackson invites Ally to go on tour with him which leads to a romantic relationship. In Arizona\, Ally and Jackson visit a ranch to see where Jackson grew up and where his father is buried. During the trip they discover that Bobby\, his manager and older brother sold the land. Angered at his betrayal\, Jackson punches Bobby\, who subsequently quits as his manager. Before doing so\, Bobby reveals that he did inform Jackson about the sale\, but the latter was too inebriated to notice…\n\nErmäßigt/Reduced: 3€\n Regulär/Regular: 4€\n\n \n\n\n\nTitle:\nA Star Is Born\n\n\nProduction:\nUSA / 2018\n\n\nDirector:\nBradley Cooper\n\n\nScreenplay:\nEric Roth\, Bradley Cooper\, Will Fetters\n\n\nCinematography:\nMatthew Libatique\n\n\nCast:\nLady Gaga\, Bradley Cooper\, Sam Elliott\n\n\nTechnical Specs:\nFarbe / 136 Minuten\n\n\nTrailer:\nYoutube\n\n\n
URL:https://hochschulfilmclub.de/veranstaltung/a-star-is-born-omu/
LOCATION:Helmholtzplatz 2\, Ilmenau
ATTACH;FMTTYPE=image/png:https://hochschulfilmclub.de/wp-content/uploads/2019/03/20190416_A-Star-is-Born_OmU.png
END:VEVENT
END:VCALENDAR