BEGIN:VCALENDAR
VERSION:2.0
PRODID:-//Hochschulfilmclub - ECPv4.3.3//NONSGML v1.0//EN
CALSCALE:GREGORIAN
METHOD:PUBLISH
X-WR-CALNAME:Hochschulfilmclub
X-ORIGINAL-URL:https://hochschulfilmclub.de
X-WR-CALDESC:Events for Hochschulfilmclub
BEGIN:VEVENT
DTSTART;TZID=Europe/Berlin:20250408T210000
DTEND;TZID=Europe/Berlin:20250408T230000
DTSTAMP:20260420T083930
CREATED:20250402T205313Z
LAST-MODIFIED:20250402T205313Z
UID:3769-1744146000-1744153200@hochschulfilmclub.de
SUMMARY:A Different Man (OmU)
DESCRIPTION:\n\n\n"A Different Man" tells the story of Edward (Sebastian Stan)\, a shy\, isolated actor who suffers from neurofibromatosis and withdraws further and further from the world due to his disfigured facial features. A risky treatment radically changes his appearance and he begins a new life as the self-confident estate agent "Guy". However\, when he meets his former neighbour Ingrid (Renate Reinsve) again and is confronted with his old identity in a theatre project\, it becomes clear that a new face does not automatically mean a new self.\n\n"A Different Man" is an acerbic\, grotesque comedy with a slight body horror flavour. Aaron Schimberg cleverly plays with themes such as self-perception\, superficiality and social ideals of beauty. The first half of the film is particularly strong\, with absurd humour and melancholy moments. The acting ensemble - above all Sebastian Stan and Adam Pearson - is also convincing across the board. The magnificent make-up work makes for intense visual moments. Only the finale lays the message on a little too thick\, but without detracting from the film's overall impact. An intelligent\, uncomfortably funny commentary on our obsession with appearances. (LK)\n\n \n\n\n\n\n\n\nTitel:\nA Different Man (OmU)\n\n\nProduktion:\nUSA / 2024 / 112 min\n\n\nRegisseur:\nAaron Schimberg\n\n\nDrehbuch:\nAaron Schimberg\n\n\nKamera:\nWyatt Garfield\n\n\nMusik:\nUmberto Smerilli\n\n\nSchauspieler*innen:\nSebastian Stan\, Renate Reinsve\, Adam Pearson\n\n\nTrailer:\nYoutube\n\n\n
URL:https://hochschulfilmclub.de/veranstaltung/a-different-man-omu/
LOCATION:Helmholtzplatz 2\, Ilmenau
ATTACH;FMTTYPE=image/png:https://hochschulfilmclub.de/wp-content/uploads/2025/04/Englisch-blau.png
END:VEVENT
END:VCALENDAR