BEGIN:VCALENDAR
VERSION:2.0
PRODID:-//Hochschulfilmclub - ECPv4.3.3//NONSGML v1.0//EN
CALSCALE:GREGORIAN
METHOD:PUBLISH
X-WR-CALNAME:Hochschulfilmclub
X-ORIGINAL-URL:https://hochschulfilmclub.de
X-WR-CALDESC:Events for Hochschulfilmclub
BEGIN:VEVENT
DTSTART;TZID=Europe/Berlin:20170126T210000
DTEND;TZID=Europe/Berlin:20170126T230000
DTSTAMP:20260424T183105
CREATED:20170107T215712Z
LAST-MODIFIED:20170107T221439Z
UID:489-1485464400-1485471600@hochschulfilmclub.de
SUMMARY:Ein ganzes halbes Jahr
DESCRIPTION:Louisa Clark (Emilia Clarke) ist eine junge\, quirlige Frau voller Lebensfreude. Als sie ihren Job verliert\, stößt sie auf eine Anzeige des jungen Will Traynor für eine befristete Pflege-Anstellung. Will ist seit 2 Jahren auf den Rollstuhl angewiesen. Depressiv blickt er zurück auf sein ehemals erfolgreiches Leben und hat jegliche Hoffnung verloren.\nTrotzdem beide unterschiedlichere Lebensansichten nicht haben könnten\, lernen sie sich immer besser kennen. Louisa möchte Will beweisen\, dass das Leben auch noch schöne Seiten hat. Doch was sie nicht weiß: Will möchte seinem Leben ein Ende setzen.\n\nDie Verfilmung des gleichnamigen Romans der Autorin Jojo Moyes fokussiert die harmonische Beziehung zwischen Louisa und Will und weniger die Schmerzen\, die Will täglich ertragen muss. Mit Fingerspitzengefühl wird der Wunsch nach Sterbehilfe thematisiert. Es geht um bedingungslose Liebe\, Kampfgeist und die schönen\, unverhofften Seiten des Lebens.\n\nWährend Emilia Clarke sonst in „Game of Thrones“ Drachen großzieht\, kommt hier eine naive\, quirlige Seite zum Vorschein. Sam Claflin\, vor allem bekannt durch die Rolle Finnick Odair in „Tribute von Panem“\, legt hier seine sensible Seite offen.\n \n\n\n\nTitel:\nEin ganzes halbes Jahr\n\n\nProduktion:\nUSA / 2016\n\n\nRegisseur:\nThea Sharrock\n\n\nDrehbuch:\nJojo Moyes\n\n\nKamera:\nRemi Adefarasin\n\n\nMusik:\n\nCraig Armstrong \n\n\nSchauspieler:\n\n\n\nEmilia Clarke\, Sam Claflin\, Janet McTeer\, Charles Dance\, Brandon Coyle\, Matthew Lewis\n\n\n\n\nTechnik:\nFarbe / 110 Minuten\n\n\nTrailer:\nYoutube\n\n\n
URL:https://hochschulfilmclub.de/veranstaltung/489/
LOCATION:Helmholtzplatz 2\, Ilmenau
ATTACH;FMTTYPE=image/png:https://hochschulfilmclub.de/wp-content/uploads/2017/01/170126_Ein-ganzes-halbes-Jahr.png
END:VEVENT
END:VCALENDAR